BEGIN:VCALENDAR
VERSION:2.0
PRODID:-//Nubia Rose Bilingual Magazine - ECPv6.15.20//NONSGML v1.0//EN
CALSCALE:GREGORIAN
METHOD:PUBLISH
X-WR-CALNAME:Nubia Rose Bilingual Magazine
X-ORIGINAL-URL:https://nubiaroseinternational.com
X-WR-CALDESC:Events for Nubia Rose Bilingual Magazine
REFRESH-INTERVAL;VALUE=DURATION:PT1H
X-Robots-Tag:noindex
X-PUBLISHED-TTL:PT1H
BEGIN:VTIMEZONE
TZID:America/Denver
BEGIN:DAYLIGHT
TZOFFSETFROM:-0700
TZOFFSETTO:-0600
TZNAME:MDT
DTSTART:20250309T090000
END:DAYLIGHT
BEGIN:STANDARD
TZOFFSETFROM:-0600
TZOFFSETTO:-0700
TZNAME:MST
DTSTART:20251102T080000
END:STANDARD
BEGIN:DAYLIGHT
TZOFFSETFROM:-0700
TZOFFSETTO:-0600
TZNAME:MDT
DTSTART:20260308T090000
END:DAYLIGHT
BEGIN:STANDARD
TZOFFSETFROM:-0600
TZOFFSETTO:-0700
TZNAME:MST
DTSTART:20261101T080000
END:STANDARD
BEGIN:DAYLIGHT
TZOFFSETFROM:-0700
TZOFFSETTO:-0600
TZNAME:MDT
DTSTART:20270314T090000
END:DAYLIGHT
BEGIN:STANDARD
TZOFFSETFROM:-0600
TZOFFSETTO:-0700
TZNAME:MST
DTSTART:20271107T080000
END:STANDARD
END:VTIMEZONE
BEGIN:VEVENT
DTSTART;TZID=America/Denver:20260423T190000
DTEND;TZID=America/Denver:20260423T230000
DTSTAMP:20260423T081422
CREATED:20260417T210835Z
LAST-MODIFIED:20260417T210835Z
UID:10000010-1776970800-1776985200@nubiaroseinternational.com
SUMMARY:One-Week Countdown to the NFL Draft: Miami Dolphins Set to Host 2026 Draft Party Presented by Bud Light Two watch parties to be hosted at The Wharf Fort Lauderdale and Regatta Grove in Coconut Grove
DESCRIPTION:MIAMI GARDENS\, Fla. – The Miami Dolphins announced they will host their 2026 Draft Party presented by Bud Light on Thursday\, April 23 at 7 p.m. ET across two South Florida locations\, as the organization begins its one-week countdown to the NFL Draft.
URL:https://nubiaroseinternational.com/event/one-week-countdown-to-the-nfl-draft-miami-dolphins-set-to-host-2026-draft-party-presented-by-bud-light-two-watch-parties-to-be-hosted-at-the-wharf-fort-lauderdale-and-regatta-grove-in-coconut-grove/
LOCATION:The Wharf Fort Lauderdale\, 20 W Las Olas Blvd\, Fort Lauderdale\, FL\, 33301\, United States
ATTACH;FMTTYPE=image/gif:https://nubiaroseinternational.com/wp-content/uploads/2026/04/dolphins.gif
END:VEVENT
END:VCALENDAR